BEGIN:VCALENDAR
VERSION:2.0
PRODID:icalendar-ruby
CALSCALE:GREGORIAN
METHOD:PUBLISH
BEGIN:VEVENT
DTSTAMP:20260421T194957Z
UID:10-377274@churchinthecountry.com
DTSTART:20261025T140000Z
DTEND:20261025T151500Z
CLASS:PUBLIC
CREATED:20260421T123609
DESCRIPTION:Every Sunday during our 9 AM service\, Kountry Kids provides a 
 fun\, safe\, and faith-filled environment for children from Pre-K through 
 5th grade. While parents worship in the main service\, kids head to the CY
 C (Country Youth Center) for high-energy Bible lessons\, worship\, games\,
  and activities designed just for them.\nWe also offer nursery care and de
 dicated classes for Pre-K 3 and Pre-K 4\, so every child has a place to le
 arn and grow. At Kountry Kids\, your children won’t just be cared for—
 they’ll be poured into with truth\, love\, and joy.
LAST-MODIFIED:20260421T123609
LOCATION:555 FM 256 N\, Woodville\, Texas
SUMMARY:Kountry Kids Sunday Mornings - 9AM
URL;VALUE=URI:https://www.churchinthecountry.com/events/kountry-kids-sunday
 -mornings-9am/2026-10-25
ATTACH;FILENAME=Untitled-design-%2814%29.png;FMTTYPE=image/png:https://dq5p
 wpg1q8ru0.cloudfront.net/2025/04/25/03/55/35/949c98b6-7f84-45bb-afcd-e07f2
 bf173b7/Untitled-design-%252814%2529.png
END:VEVENT
END:VCALENDAR
