BEGIN:VCALENDAR
VERSION:2.0
PRODID:icalendar-ruby
CALSCALE:GREGORIAN
METHOD:PUBLISH
BEGIN:VEVENT
DTSTAMP:20260419T205102Z
UID:63-374311@churchinthecountry.com
DTSTART:20260927T160000Z
DTEND:20260927T163000Z
CLASS:PUBLIC
CREATED:20260419T154451
DESCRIPTION:Real Faith. Real People. Real Country Church.Join us every Sund
 ay at 11 AM  for a powerful\, down-to-earth worship experience where coun
 try culture meets biblical truth. You’ll hear engaging\, relatable preac
 hing\, experience authentic worship\, and find a place where you and your 
 family can feel right at home.
LAST-MODIFIED:20260419T154451
LOCATION:555 FM 256 N\, Woodville\, Texas
SUMMARY:Sunday Morning Worship - 11AM
URL;VALUE=URI:https://www.churchinthecountry.com/events/sunday-morning-wors
 hip-11am/2026-09-27
ATTACH;FILENAME=WORSHIP.png;FMTTYPE=image/png:https://dq5pwpg1q8ru0.cloudfr
 ont.net/2026/02/26/18/19/24/a68de488-7cfa-4c61-af06-95f5f1a4df35/WORSHIP.p
 ng
END:VEVENT
END:VCALENDAR
