BEGIN:VCALENDAR
VERSION:2.0
PRODID:icalendar-ruby
CALSCALE:GREGORIAN
METHOD:PUBLISH
BEGIN:VEVENT
DTSTAMP:20260421T180331Z
UID:7-377195@churchinthecountry.com
DTSTART:20260920T140000Z
DTEND:20260920T143000Z
CLASS:PUBLIC
CREATED:20260421T123609
DESCRIPTION:Real Faith. Real People. Real Country Church.Join us every Sund
 ay at 9 AM  for a powerful\, down-to-earth worship experience where count
 ry culture meets biblical truth. You’ll hear engaging\, relatable preach
 ing\, experience authentic worship\, and find a place where you and your f
 amily can feel right at home.
LAST-MODIFIED:20260421T123609
LOCATION:555 FM 256 N\, Woodville\, Texas
SUMMARY:Sunday Morning Worship - 9AM
URL;VALUE=URI:https://www.churchinthecountry.com/events/sunday-morning-wors
 hip-9am/2026-09-20
ATTACH;FILENAME=Untitled-design-%289%29.png;FMTTYPE=image/png:https://dq5pw
 pg1q8ru0.cloudfront.net/2025/04/24/05/04/01/7d5f1c5f-f3d0-4e30-b0f2-3ea232
 fb4e0c/Untitled-design-%25289%2529.png
END:VEVENT
END:VCALENDAR
